BEGIN:VCALENDAR
VERSION:2.0
PRODID:-//The Aerozone - ECPv6.15.13//NONSGML v1.0//EN
CALSCALE:GREGORIAN
METHOD:PUBLISH
X-WR-CALNAME:The Aerozone
X-ORIGINAL-URL:https://www.theaerozone.org
X-WR-CALDESC:Events for The Aerozone
REFRESH-INTERVAL;VALUE=DURATION:PT1H
X-Robots-Tag:noindex
X-PUBLISHED-TTL:PT1H
BEGIN:VTIMEZONE
TZID:America/New_York
BEGIN:DAYLIGHT
TZOFFSETFROM:-0500
TZOFFSETTO:-0400
TZNAME:EDT
DTSTART:20230312T070000
END:DAYLIGHT
BEGIN:STANDARD
TZOFFSETFROM:-0400
TZOFFSETTO:-0500
TZNAME:EST
DTSTART:20231105T060000
END:STANDARD
BEGIN:DAYLIGHT
TZOFFSETFROM:-0500
TZOFFSETTO:-0400
TZNAME:EDT
DTSTART:20240310T070000
END:DAYLIGHT
BEGIN:STANDARD
TZOFFSETFROM:-0400
TZOFFSETTO:-0500
TZNAME:EST
DTSTART:20241103T060000
END:STANDARD
BEGIN:DAYLIGHT
TZOFFSETFROM:-0500
TZOFFSETTO:-0400
TZNAME:EDT
DTSTART:20250309T070000
END:DAYLIGHT
BEGIN:STANDARD
TZOFFSETFROM:-0400
TZOFFSETTO:-0500
TZNAME:EST
DTSTART:20251102T060000
END:STANDARD
END:VTIMEZONE
BEGIN:VEVENT
DTSTART;TZID=America/New_York:20240919T171500
DTEND;TZID=America/New_York:20240919T183000
DTSTAMP:20260420T054008
CREATED:20240903T172501Z
LAST-MODIFIED:20240903T172501Z
UID:2273-1726766100-1726770600@www.theaerozone.org
SUMMARY:Aerozone Alliance Happy Hour
DESCRIPTION:Join Aerozone Alliance and our partners for an evening of networking and fun. Learn about what is new and exciting in the Aerozone and our surrounding communities. \nAppetizers included. Cash bar available. \nRSVP to mschmidt@aerozonealliance.org.
URL:https://www.theaerozone.org/event/aerozone-alliance-happy-hour-0924/
LOCATION:Arnie’s Clubhouse Grill at Stonebrook Driving Range\, 7599 Pearl Road\, Middleburg Heights\, United States
CATEGORIES:Happy Hour
ATTACH;FMTTYPE=image/webp:https://www.theaerozone.org/wp-content/uploads/2024/09/arnies-scaled.webp
END:VEVENT
BEGIN:VEVENT
DTSTART;TZID=America/New_York:20240918T153000
DTEND;TZID=America/New_York:20240918T161500
DTSTAMP:20260420T054008
CREATED:20240905T142746Z
LAST-MODIFIED:20240905T142746Z
UID:2276-1726673400-1726676100@www.theaerozone.org
SUMMARY:Cuyahoga County Solar Informational Virtual Call
DESCRIPTION:This virtual event is perfect for Aerozone businesses\, municipalities\, and nonprofits looking to enhance their sustainability efforts\, stay ahead of industry trends related to carbon emission mandates\, and explore opportunities to reduce energy costs. Join Mike Foley\, Director of Cuyahoga Green Energy\, and Rick Bolton\, CEO of Compass Energy\, as they present Cuyahoga County’s innovative solar program designed specifically for businesses in the region. \nWhy Attend? \n\nSustainability: Contribute to a cleaner\, greener community.\nResilience: Explore the option of battery storage to ensure energy stability.\nExclusive Incentives: Take advantage of special offers available for Aerozone businesses.\nCost Savings: Learn how to potentially lower your energy expenses.\n\nEvent Details: \n\nDate: Wednesday\, September 18\, 2024\nTime: 3:30 – 4:15 pm\nPlatform: Zoom (RSVP below to receive the link)\n\nThis is a unique opportunity to discover how solar energy can benefit both your business and the broader Aerozone community. \nRSVP to mschmidt@aerozonealliance.org today!
URL:https://www.theaerozone.org/event/cuyahoga-solar-call-091824/
LOCATION:Virtual via Zoom
CATEGORIES:Virtual Event
ATTACH;FMTTYPE=image/webp:https://www.theaerozone.org/wp-content/uploads/2024/09/solar-scaled.webp
END:VEVENT
BEGIN:VEVENT
DTSTART;TZID=America/New_York:20240917T080000
DTEND;TZID=America/New_York:20240918T170000
DTSTAMP:20260420T054008
CREATED:20240801T200417Z
LAST-MODIFIED:20240801T200417Z
UID:2248-1726560000-1726678800@www.theaerozone.org
SUMMARY:U.S. Commercial Service Export Compliance Roadshow
DESCRIPTION:This dynamic two-day program features speakers from the U.S. Commercial Service\, the Bureau of Industry and Security\, U.S. Customs and Border Protection\, and local industry specialists. This event is designed to equip local companies with the knowledge and tools necessary to navigate export opportunities while adhering to critical export regulations. Whether you’re a seasoned exporter or new to the international market\, this event promises valuable insights and networking opportunities. \nWhy export regulations are critical; the role of U.S. government; and an overview of the Bureau of Industry and Security’s Export Administration Regulations. \n\nHow to apply for export licenses using government registration and export transaction filing systems.\nBest practices for managing your company’s export compliance program.\n\nLearn more and register at https://www.ohiodec.org/event.
URL:https://www.theaerozone.org/event/u-s-commercial-service-export-compliance-roadshow/
LOCATION:Ohio Aerospace Institute\, 22800 Cedar Point Road\, Cleveland\, OH\, 44142\, United States
CATEGORIES:Partner Event
ATTACH;FMTTYPE=image/webp:https://www.theaerozone.org/wp-content/uploads/2024/08/export-scaled.webp
END:VEVENT
BEGIN:VEVENT
DTSTART;TZID=America/New_York:20240912T114500
DTEND;TZID=America/New_York:20240912T130000
DTSTAMP:20260420T054008
CREATED:20240821T194448Z
LAST-MODIFIED:20240821T194448Z
UID:2269-1726141500-1726146000@www.theaerozone.org
SUMMARY:The High Stakes of Managing Sustainability Risk and Reputation
DESCRIPTION:Gregg LaBar\, the Chief Client Officer and Senior Managing Director at Dix & Eaton\, will lead a Lunch & Learn session focused on the fast-moving trends in Sustainability and ESG (Environmental\, Social\, and Governance). This session will explore the strategic and authentic approaches businesses need to adopt to navigate emerging regulations\, standards\, frameworks\, and stakeholder expectations. LaBar will provide insights on finding the strategic sweet spot amidst the risks of overreacting or ignoring these trends. The event will be held at the Ohio Aerospace Institute\, with options for both in-person and virtual attendance. \nDownload this flyer to learn more and to register for the virtual or in-person option.
URL:https://www.theaerozone.org/event/the-high-stakes-of-managing-sustainability-risk-and-reputation/
LOCATION:Ohio Aerospace Institute\, 22800 Cedar Point Road\, Cleveland\, OH\, 44142\, United States
CATEGORIES:Lunch and Learn
ATTACH;FMTTYPE=image/webp:https://www.theaerozone.org/wp-content/uploads/2024/08/glb-high-stakes-scaled.webp
END:VEVENT
BEGIN:VEVENT
DTSTART;VALUE=DATE:20240828
DTEND;VALUE=DATE:20240831
DTSTAMP:20260420T054008
CREATED:20240708T165748Z
LAST-MODIFIED:20240708T165748Z
UID:2237-1724803200-1725062399@www.theaerozone.org
SUMMARY:OARC Conference on Freight
DESCRIPTION:Join the Northeast Ohio Areawide Coordinating Agency\, along with freight and transportation professionals from across the region\, for the 2024 OARC Conference on Freight. The two-day conference consists of plenary and breakout sessions that cover the latest topics\, tools\, and trends in the world of freight and logistics.
URL:https://www.theaerozone.org/event/oarc-conference-on-freight/
LOCATION:Hilton Cleveland Downtown\, 100 Lakeside Avenue East\, Cleveland\, OH\, 44114\, United States
CATEGORIES:Conference
ATTACH;FMTTYPE=image/webp:https://www.theaerozone.org/wp-content/uploads/2024/07/freight2-scaled.webp
END:VEVENT
BEGIN:VEVENT
DTSTART;TZID=America/New_York:20240821T171500
DTEND;TZID=America/New_York:20240821T183000
DTSTAMP:20260420T054008
CREATED:20240807T141532Z
LAST-MODIFIED:20240807T141532Z
UID:2252-1724260500-1724265000@www.theaerozone.org
SUMMARY:Aerozone Alliance Happy Hour
DESCRIPTION:Join Aerozone Alliance and our partners for an evening of networking and fun. Learn about what is new and exciting in the Aerozone and our surrounding communities. \nRSVP to mschmidt@aerozonealliance.org.
URL:https://www.theaerozone.org/event/aerozone-hh-aug-2024/
LOCATION:The Aviator\, 20920 Brookpark Road\, Cleveland\, OH\, 44135\, United States
CATEGORIES:Happy Hour
ATTACH;FMTTYPE=image/webp:https://www.theaerozone.org/wp-content/uploads/2024/08/Aviator-Pub-scaled.webp
END:VEVENT
BEGIN:VEVENT
DTSTART;TZID=America/New_York:20240724T170000
DTEND;TZID=America/New_York:20240724T190000
DTSTAMP:20260420T054008
CREATED:20240708T165341Z
LAST-MODIFIED:20240708T165341Z
UID:2233-1721840400-1721847600@www.theaerozone.org
SUMMARY:Cleveland Freight Association Meeting
DESCRIPTION:General Meeting & Golf Outing Events!\nCFA General Meeting with Speakers\nYou don’t want to miss this one! \nTime: 5-6PM – Networking/Check In/Cocktails\n6PM Dinner with Speakers Immediately Following \n2024 Members: $25.00\nNon-Members: $35.00 \nWe will be accepting 2024 membership dues – still only $25 for the year! \nThe CFA has special guest speakers for this meeting!​ \n\nMary J. Schmidt – Aerozone Alliance\nHrishue Mahalaha – Aerozone Alliance\nPeter Zahirsky – TeamNEO\nSylvio Mecone – TeamNEO\nKevin Chambers – JobsOhio\n\nThe Aerozone  in Northeast Ohio is a strategic blend of an aerotropolis and innovation district\, focused on creating a thriving economic hub around the Cleveland Hopkins International Airport and the NASA Glenn Research Center. \nAs the Northeast Ohio Region’s economic development partner\, Team NEO accelerates the pace of growth and equity relating to business development outcomes throughout the 14 counties of Northeast Ohio. We work with a strong\, coordinated regional network to advance the Northeast Ohio Region toward a truly vibrant economy: one that is talented\, equitable\, innovative\, resilient\, competitive\, and prosperous. \nJobsOhio\, the state’s unique private economic development corporation\, acts as a catalyst for high-growth business investments and job creation that are helping propel the state’s ingenuity and ambitions forward. Founded 12 years ago\, JobsOhio is a first-of-its-kind\, state-authorized\, nonprofit built with private stable financial resources\, seasoned professionals with private sector expertise\, a statewide network of economic development partners\, and the long-term investment outlook needed to attract\, retain\, and expand businesses\, payrolls\, and career opportunities across the state.
URL:https://www.theaerozone.org/event/cleveland-freight-association-meeting/
LOCATION:West Side Irish American Club\, 8559 Jennings Road\, Olmsted Township\, OH\, 44138\, United States
CATEGORIES:Partner Event
ATTACH;FMTTYPE=image/webp:https://www.theaerozone.org/wp-content/uploads/2024/07/freight1-scaled.webp
END:VEVENT
BEGIN:VEVENT
DTSTART;TZID=America/New_York:20240723T170000
DTEND;TZID=America/New_York:20240723T183000
DTSTAMP:20260420T054008
CREATED:20240708T164514Z
LAST-MODIFIED:20240708T164514Z
UID:2229-1721754000-1721759400@www.theaerozone.org
SUMMARY:Aerozone Alliance Happy Hour
DESCRIPTION:Join Aerozone Alliance and our partners for an evening of networking and fun. Learn about what is new and exciting in the Aerozone and our surrounding communities. \nRSVP to mschmidt@aerozonealliance.org.
URL:https://www.theaerozone.org/event/aerozone-alliance-happy-hour-july-2024/
LOCATION:Savvy Sliders\, 14601 Snow Road\, Brook Park\, OH\, 44142\, United States
CATEGORIES:Happy Hour
ATTACH;FMTTYPE=image/webp:https://www.theaerozone.org/wp-content/uploads/2024/07/ss-scaled.webp
END:VEVENT
BEGIN:VEVENT
DTSTART;TZID=America/New_York:20240626T171500
DTEND;TZID=America/New_York:20240626T183000
DTSTAMP:20260420T054008
CREATED:20240613T175946Z
LAST-MODIFIED:20240617T135337Z
UID:2215-1719422100-1719426600@www.theaerozone.org
SUMMARY:Aerozone Alliance Happy Hour
DESCRIPTION:Join Aerozone Alliance and our partners for an evening of networking and fun. Learn about what is new and exciting in the Aerozone and our surrounding communities. \nRSVP to mschmidt@aerozonealliance.org.
URL:https://www.theaerozone.org/event/aerozone-alliance-happy-hour-062624/
LOCATION:Slim & Chubby’s\, 2492 Prospect Road\, Strongsville\, OH\, United States
CATEGORIES:Happy Hour
ATTACH;FMTTYPE=image/webp:https://www.theaerozone.org/wp-content/uploads/2024/06/SCs-scaled-e1718301480822.webp
END:VEVENT
BEGIN:VEVENT
DTSTART;TZID=America/New_York:20240619T113000
DTEND;TZID=America/New_York:20240619T123000
DTSTAMP:20260420T054008
CREATED:20240521T013637Z
LAST-MODIFIED:20240521T013637Z
UID:2206-1718796600-1718800200@www.theaerozone.org
SUMMARY:Aerozone Employer Learn & Lunch: Public Transit for Employees
DESCRIPTION:Is your business located in the Aerozone\, and do you have employees who take public transit? \nThen join us for Aerozone Virtual Learn and Lunch and learn how you can significantly ease the commute for your employees. \nRTA ConnectWorks is designed to address the existing gaps in public transit by providing your employees with scheduled rides from GCRTA transit stops to the front door of your business. \n\nUnlock new pools of talent and increase recruitment\nImprove staff attendance\, decrease absenteeism\nIncrease employee retention by up to 62%\n\nBonus: Employers who attend the session will be offered a $15 Uber Eats gift certificate for joining the conversation. \nLearn More and Register
URL:https://www.theaerozone.org/event/aerozone-employer-learn-lunch-public-transit-for-employees-4/
LOCATION:Virtual
CATEGORIES:Lunch and Learn
ATTACH;FMTTYPE=image/jpeg:https://www.theaerozone.org/wp-content/uploads/2024/05/rta-connectworks-web-scaled.jpg
END:VEVENT
BEGIN:VEVENT
DTSTART;TZID=America/New_York:20240612T113000
DTEND;TZID=America/New_York:20240612T123000
DTSTAMP:20260420T054008
CREATED:20240521T013421Z
LAST-MODIFIED:20240521T013421Z
UID:2205-1718191800-1718195400@www.theaerozone.org
SUMMARY:Aerozone Employer Learn & Lunch: Public Transit for Employees
DESCRIPTION:Is your business located in the Aerozone\, and do you have employees who take public transit? \nThen join us for Aerozone Virtual Learn and Lunch and learn how you can significantly ease the commute for your employees. \nRTA ConnectWorks is designed to address the existing gaps in public transit by providing your employees with scheduled rides from GCRTA transit stops to the front door of your business. \n\nUnlock new pools of talent and increase recruitment\nImprove staff attendance\, decrease absenteeism\nIncrease employee retention by up to 62%\n\nBonus: Employers who attend the session will be offered a $15 Uber Eats gift certificate for joining the conversation. \nLearn More and Register
URL:https://www.theaerozone.org/event/aerozone-employer-learn-lunch-public-transit-for-employees-3/
LOCATION:Virtual
CATEGORIES:Lunch and Learn
ATTACH;FMTTYPE=image/jpeg:https://www.theaerozone.org/wp-content/uploads/2024/05/rta-connectworks-web-scaled.jpg
END:VEVENT
BEGIN:VEVENT
DTSTART;TZID=America/New_York:20240605T113000
DTEND;TZID=America/New_York:20240605T123000
DTSTAMP:20260420T054008
CREATED:20240521T013139Z
LAST-MODIFIED:20240521T013139Z
UID:2204-1717587000-1717590600@www.theaerozone.org
SUMMARY:Aerozone Employer Learn & Lunch: Public Transit for Employees
DESCRIPTION:Is your business located in the Aerozone\, and do you have employees who take public transit? \nThen join us for Aerozone Virtual Learn and Lunch and learn how you can significantly ease the commute for your employees. \nRTA ConnectWorks is designed to address the existing gaps in public transit by providing your employees with scheduled rides from GCRTA transit stops to the front door of your business. \n\nUnlock new pools of talent and increase recruitment\nImprove staff attendance\, decrease absenteeism\nIncrease employee retention by up to 62%\n\nBonus: Employers who attend the session will be offered a $15 Uber Eats gift certificate for joining the conversation. \nLearn More and Register
URL:https://www.theaerozone.org/event/aerozone-employer-learn-lunch-public-transit-for-employees-2/
LOCATION:Virtual
CATEGORIES:Lunch and Learn
ATTACH;FMTTYPE=image/jpeg:https://www.theaerozone.org/wp-content/uploads/2024/05/rta-connectworks-web-scaled.jpg
END:VEVENT
BEGIN:VEVENT
DTSTART;TZID=America/New_York:20240529T113000
DTEND;TZID=America/New_York:20240529T123000
DTSTAMP:20260420T054008
CREATED:20240514T193336Z
LAST-MODIFIED:20240514T193336Z
UID:2198-1716982200-1716985800@www.theaerozone.org
SUMMARY:Aerozone Employer Learn & Lunch: Public Transit for Employees
DESCRIPTION:Is your business located in the Aerozone\, and do you have employees who take public transit? \nThen join us for Aerozone Virtual Learn and Lunch and learn how you can significantly ease the commute for your employees. \nRTA ConnectWorks is designed to address the existing gaps in public transit by providing your employees with scheduled rides from GCRTA transit stops to the front door of your business. \n\nUnlock new pools of talent and increase recruitment\nImprove staff attendance\, decrease absenteeism\nIncrease employee retention by up to 62%\n\nBonus: Employers who attend the session will be offered a $15 Uber Eats gift certificate for joining the conversation. \nLearn More and Register
URL:https://www.theaerozone.org/event/aerozone-employer-learn-lunch-public-transit-for-employees/
LOCATION:Virtual
CATEGORIES:Lunch and Learn
ATTACH;FMTTYPE=image/jpeg:https://www.theaerozone.org/wp-content/uploads/2024/05/rta-connectworks-web-scaled.jpg
END:VEVENT
BEGIN:VEVENT
DTSTART;TZID=America/New_York:20240523T171500
DTEND;TZID=America/New_York:20240523T183000
DTSTAMP:20260420T054008
CREATED:20240502T204238Z
LAST-MODIFIED:20240513T194113Z
UID:2178-1716484500-1716489000@www.theaerozone.org
SUMMARY:Aerozone Alliance Happy Hour
DESCRIPTION:Join Aerozone Alliance and our partners for an evening of networking and fun. Learn about what is new and exciting in the Aerozone and our surrounding communities. \nRSVP to mschmidt@aerozonealliance.org.
URL:https://www.theaerozone.org/event/aerozone-alliance-happy-hour-0523242/
LOCATION:RollHouse\, 24488 Lorain Road\, North Olmsted\, OH\, 44070\, United States
ATTACH;FMTTYPE=image/jpeg:https://www.theaerozone.org/wp-content/uploads/2024/05/rollhouse-scaled.jpg
END:VEVENT
BEGIN:VEVENT
DTSTART;TZID=America/New_York:20240425T171500
DTEND;TZID=America/New_York:20240425T183000
DTSTAMP:20260420T054008
CREATED:20240422T003106Z
LAST-MODIFIED:20240422T131942Z
UID:2166-1714065300-1714069800@www.theaerozone.org
SUMMARY:Aerozone Alliance Happy Hour
DESCRIPTION:Join the Aerozone Alliance and our partners for an evening of networking and fun. Learn about what is new and exciting in the Aerozone and our surrounding communities. \nRSVP to mschmidt@aerozonealliance.org.
URL:https://www.theaerozone.org/event/aerozone-alliance-happy-hour/
LOCATION:Fatheads Brewery\, 17450 Engle Lake Drive\, Middleburg Heights\, OH\, 44130\, United States
CATEGORIES:Happy Hour
ATTACH;FMTTYPE=image/jpeg:https://www.theaerozone.org/wp-content/uploads/2024/04/fatheads-scaled.jpg
END:VEVENT
BEGIN:VEVENT
DTSTART;TZID=America/New_York:20240305T100000
DTEND;TZID=America/New_York:20240305T130000
DTSTAMP:20260420T054008
CREATED:20240301T145635Z
LAST-MODIFIED:20240301T150115Z
UID:1847-1709632800-1709643600@www.theaerozone.org
SUMMARY:Aerozone Job Fair
DESCRIPTION:Let your career take off from here!\nOn-the-Spot Interviews | 20 Employers | Supportive Services \nGet hired with top-notch employers like: \nRTA\, Janitorial Services Inc\, Hx5 Sierra (SSC at NASA GRC)\, Chick-Fil-A\, Starbucks\, Shake Shack\, Dunkin\, Panini’s Bar & Grill\, and More! \nPositions Available: \nMachine Operators\, Material Handlers\, Supervisors\, General Cleaners\, Electricians\, Bus Operators\, Servers\, Baristas\, Cooks\, and More!
URL:https://www.theaerozone.org/event/aerozone-job-fair/
LOCATION:Cleveland Hopkins International Airport\, 5300 Riverside Drive\, Cleveland\, OH\, 44135\, United States
CATEGORIES:Job Fair
ATTACH;FMTTYPE=image/jpeg:https://www.theaerozone.org/wp-content/uploads/2024/03/test-rectangle-scaled.jpg
END:VEVENT
END:VCALENDAR